BEGIN:VCALENDAR
VERSION:2.0
PRODID:shbp.georgia.gov
X-WR-TIMEZONE:America/New_York
BEGIN:VTIMEZONE
TZID:America/New_York
X-LIC-LOCATION:America/New_York
END:VTIMEZONE
BEGIN:VEVENT
UID:61409ae751af2
DTSTART;VALUE=DATE:20201102
SEQUENCE:0
TRANSP:OPAQUE
URL:https://shbp.georgia.gov/events/2020-11-02/open-enrollmentretiree-optio
 n-change-period
SUMMARY:Open Enrollment/Retiree Option Change Period
CLASS:PUBLIC
DESCRIPTION:Dates: 10/19/20 to 11/6/20\n\n\n\nOpen Enrollment (OE) Informat
 ion: https://shbp.georgia.gov/open-enrollment-0\n\n\n\nRetiree Option Cha
 nge Period (ROCP) Information: https://shbp.georgia.gov/enrollment/retire
 e-option-change-period\n\n\n\nEnrollment: https://shbp.georgia.gov/enroll
 ment\n\n\n\nSHBP Enrollment Portal at SHBPservicecenter@adp.com: Availabl
 e 24 Hours Day/7 Days Per Week\n\n\n\nSHBP Member Services at 800-610-1863
 : Available Monday – Friday 8:30 a.m. to 7:30 p.m. ET
X-MICROSOFT-CDO-ALLDAYEVENT:TRUE
DTSTAMP:20210914T085151Z
END:VEVENT
END:VCALENDAR