BEGIN:VCALENDAR
VERSION:2.0
PRODID:shbp.georgia.gov
X-WR-TIMEZONE:America/New_York
BEGIN:VTIMEZONE
TZID:America/New_York
X-LIC-LOCATION:America/New_York
END:VTIMEZONE
BEGIN:VEVENT
UID:6088fd33e3f4b
DTSTART;TZID=UTC:20200818T130000
SEQUENCE:0
TRANSP:OPAQUE
DTEND;TZID=UTC:20200818T160000
URL:https://shbp.georgia.gov/events/2020-08-18/ers-wrap-session
LOCATION:2 Northside 75 NW ATLANTA\, GA 30318
SUMMARY:ERS Wrap Session
CLASS:PUBLIC
DTSTAMP:20210428T021412Z
END:VEVENT
END:VCALENDAR